BEGIN:VCALENDAR
PRODID:P. E. Schall GmbH &amp; Co. KG
VERSION:2.0
CALSCALE:GREGORIAN
BEGIN:VEVENT
UID:757f3924c4a1fcbf5d5a96d0d13a54fc-calID-schweisstec@schall-messen.de
ORGANIZER;CN="BORDIGNON SRL":
LOCATION:Hall 4 Booth 4301
SUMMARY:Präsentation der Firma Bordignon in Italien
DESCRIPTION:Präsentator Mr. Timo Reiche\nhttps://www.schweisstec-messe.de/Fachvortrag/4269-praesentation-der-firma-bordignon-in-italien
CLASS:PUBLIC
TZID:Europe_Central
DTSTART:20251021T100000
DTEND:20251021T103000
DTSTAMP:20260422170449Z
END:VEVENT
END:VCALENDAR