BEGIN:VCALENDAR
PRODID:P. E. Schall GmbH &amp; Co. KG
VERSION:2.0
CALSCALE:GREGORIAN
BEGIN:VEVENT
UID:c183acb0dbcf238746342722d686b60f-calID-schweisstec@schall-messen.de
ORGANIZER;CN="STEINEL Normalien AG":
LOCATION:Hall 7, Booth 7510
SUMMARY:Stickstoffsysteme zur Steigerung der Effizienz in der Stanz- und Umformtechnik
DESCRIPTION:Presenter Herr Markus Aistermann\nhttps://www.schweisstec-messe.de/en/Lecture/4229-stickstoffsysteme-zur-steigerung-der-effizienz-in-der-stanz--und-umformtechnik
CLASS:PUBLIC
TZID:Europe_Central
DTSTART:20251023T114000
DTEND:20251023T122000
DTSTAMP:20260421141549Z
END:VEVENT
END:VCALENDAR