BEGIN:VCALENDAR
PRODID:P. E. Schall GmbH &amp; Co. KG
VERSION:2.0
CALSCALE:GREGORIAN
BEGIN:VEVENT
UID:54b8ac7e3f9504a90a7d30635f11b2e2-calID-schweisstec@schall-messen.de
ORGANIZER;CN="FIBRO GmbH":
LOCATION:Hall 7, Booth 7510
SUMMARY:Adding Value to your Press Shop
DESCRIPTION:Presenter Herr Steffen Domay\nhttps://www.schweisstec-messe.de/en/Lecture/4243-adding-value-to-your-press-shop
CLASS:PUBLIC
TZID:Europe_Central
DTSTART:20251023T122000
DTEND:20251023T130000
DTSTAMP:20260421140705Z
END:VEVENT
END:VCALENDAR