BEGIN:VCALENDAR
PRODID:P. E. Schall GmbH &amp; Co. KG
VERSION:2.0
CALSCALE:GREGORIAN
BEGIN:VEVENT
UID:2602bc4a6368d64d2f8956e97b846c7d-calID-schweisstec@schall-messen.de
ORGANIZER;CN="BORDIGNON SRL":
LOCATION:Hall 4 Booth 4301
SUMMARY:Presentation of Bordignon Company in Italy
DESCRIPTION:Presenter Mr. Timo Reiche\nhttps://www.schweisstec-messe.de/en/Lecture/4269-presentation-of-bordignon-company-in-italy
CLASS:PUBLIC
TZID:Europe_Central
DTSTART:20251021T100000
DTEND:20251021T103000
DTSTAMP:20260421141503Z
END:VEVENT
END:VCALENDAR